BEGIN:VCALENDAR
VERSION:2.0
PRODID:-//马来西亚建造行联合总会 - ECPv6.15.20//NONSGML v1.0//EN
CALSCALE:GREGORIAN
METHOD:PUBLISH
X-WR-CALNAME:马来西亚建造行联合总会
X-ORIGINAL-URL:https://umca.org.my
X-WR-CALDESC:Events for 马来西亚建造行联合总会
REFRESH-INTERVAL;VALUE=DURATION:PT1H
X-Robots-Tag:noindex
X-PUBLISHED-TTL:PT1H
BEGIN:VTIMEZONE
TZID:Asia/Kuala_Lumpur
BEGIN:STANDARD
TZOFFSETFROM:+0800
TZOFFSETTO:+0800
TZNAME:+08
DTSTART:20230101T000000
END:STANDARD
END:VTIMEZONE
BEGIN:VEVENT
DTSTART;VALUE=DATE:20240608
DTEND;VALUE=DATE:20240610
DTSTAMP:20260424T225638
CREATED:20240207T060323Z
LAST-MODIFIED:20240207T060849Z
UID:17574-1717804800-1717977599@umca.org.my
SUMMARY:新加坡建造行70周年纪念以及新大厦落成庆典
DESCRIPTION:新加坡建造行70周年纪念以及新大厦落成庆典弟定于8/6/24 ＆ 9/6/24
URL:https://umca.org.my/event/%e6%96%b0%e5%8a%a0%e5%9d%a1%e5%bb%ba%e9%80%a0%e8%a1%8c70%e5%91%a8%e5%b9%b4%e7%ba%aa%e5%bf%b5%e4%bb%a5%e5%8f%8a%e6%96%b0%e5%a4%a7%e5%8e%a6%e8%90%bd%e6%88%90%e5%ba%86%e5%85%b8/
CATEGORIES:新加坡建造行
ATTACH;FMTTYPE=image/jpeg:https://umca.org.my/wp-content/uploads/2023/04/kch-新加坡.jpg
ORGANIZER;CN="%E6%96%B0%E5%8A%A0%E5%9D%A1%E5%BB%BA%E9%80%A0%E8%A1%8C":MAILTO:kinchohong@singnet.com.sg
END:VEVENT
END:VCALENDAR